BEGIN:VCALENDAR
VERSION:2.0
PRODID:-//ChamberMaster//Event Calendar 2.0//EN
METHOD:PUBLISH
X-PUBLISHED-TTL:P3D
REFRESH-INTERVAL:P3D
CALSCALE:GREGORIAN
BEGIN:VEVENT
DTSTART:20210318T163000Z
DTEND:20210318T170000Z
X-MICROSOFT-CDO-ALLDAYEVENT:FALSE
SUMMARY:Ribbon Cutting for Endless Motion
DESCRIPTION:Ribbon Cutting for Endless Motion
X-ALT-DESC;FMTTYPE=text/html:Ribbon Cutting for Endless Motion
LOCATION:11 Sugg St\, Madisonville\, KY 42431
UID:e.1578.4542
SEQUENCE:3
DTSTAMP:20260424T145929Z
URL:https://business.hopkinscochamber.com/events/details/ribbon-cutting-for-endless-motion-4542
END:VEVENT

END:VCALENDAR
