BEGIN:VCALENDAR
VERSION:2.0
PRODID:-//ChamberMaster//Event Calendar 2.0//EN
METHOD:PUBLISH
X-PUBLISHED-TTL:P3D
REFRESH-INTERVAL:P3D
CALSCALE:GREGORIAN
BEGIN:VEVENT
DTSTART:20211022T210000Z
DTEND:20211023T000000Z
X-MICROSOFT-CDO-ALLDAYEVENT:FALSE
SUMMARY:Ribbon Cutting & Fall Festival - South Main Clinic
DESCRIPTION:Join us at South Main Clinic for their ribbon cutting and fall festival!
X-ALT-DESC;FMTTYPE=text/html:Join us at South Main Clinic for their ribbon cutting and fall festival!&nbsp\;
LOCATION:South Main Clinic 1913 S Main Street\, Madisonville KY\, 42431
UID:e.1578.5272
SEQUENCE:3
DTSTAMP:20260424T055333Z
URL:https://business.hopkinscochamber.com/events/details/ribbon-cutting-fall-festival-south-main-clinic-5272
END:VEVENT

END:VCALENDAR
