BEGIN:VCALENDAR
VERSION:2.0
PRODID:-//ChamberMaster//Event Calendar 2.0//EN
METHOD:PUBLISH
X-PUBLISHED-TTL:P3D
REFRESH-INTERVAL:P3D
CALSCALE:GREGORIAN
BEGIN:VEVENT
DTSTART:20221115T173000Z
DTEND:20221115T180000Z
X-MICROSOFT-CDO-ALLDAYEVENT:FALSE
SUMMARY:Ribbon Cutting - Evolved Nutrition
DESCRIPTION:Join us for the ribbon-cutting ceremony for Evolved Nutrition!
X-ALT-DESC;FMTTYPE=text/html:Join us for the ribbon-cutting ceremony for Evolved Nutrition!
LOCATION:50 Pritchett Ave. Madisonville\, KY 42431
UID:e.1578.5931
SEQUENCE:3
DTSTAMP:20260423T130024Z
URL:https://business.hopkinscochamber.com/events/details/ribbon-cutting-evolved-nutrition-5931
END:VEVENT

END:VCALENDAR
