BEGIN:VCALENDAR
VERSION:2.0
PRODID:-//ChamberMaster//Event Calendar 2.0//EN
METHOD:PUBLISH
X-PUBLISHED-TTL:P3D
REFRESH-INTERVAL:P3D
CALSCALE:GREGORIAN
BEGIN:VEVENT
DTSTART:20230512T163000Z
DTEND:20230512T170000Z
X-MICROSOFT-CDO-ALLDAYEVENT:FALSE
SUMMARY:Ribbon-Cutting- Eastern Kentucky Hemp Company
DESCRIPTION:Join us for the Ribbon-Cutting of Eastern Kentucky Hemp Company.
X-ALT-DESC;FMTTYPE=text/html:Join us for the Ribbon-Cutting of Eastern Kentucky Hemp Company.&nbsp\;
LOCATION:614 E. Arch St. Madisonville KY 42431
UID:e.1578.5940
SEQUENCE:3
DTSTAMP:20260423T054839Z
URL:https://business.hopkinscochamber.com/events/details/ribbon-cutting-eastern-kentucky-hemp-company-5940
END:VEVENT

END:VCALENDAR
