BEGIN:VCALENDAR
VERSION:2.0
PRODID:-//ChamberMaster//Event Calendar 2.0//EN
METHOD:PUBLISH
X-PUBLISHED-TTL:P3D
REFRESH-INTERVAL:P3D
CALSCALE:GREGORIAN
BEGIN:VEVENT
DTSTART:20210513T160000Z
DTEND:20210513T163000Z
X-MICROSOFT-CDO-ALLDAYEVENT:FALSE
SUMMARY:Ribbon Cutting Eastern Kentucky Hemp Company
DESCRIPTION:Ribbon Cutting for Eastern Kentucky Hemp Company.
X-ALT-DESC;FMTTYPE=text/html:Ribbon Cutting for Eastern Kentucky Hemp Company.&nbsp\;
LOCATION:614 East Arch Street Madisonville\, KY 42431
UID:e.1578.5019
SEQUENCE:3
DTSTAMP:20260424T120453Z
URL:https://business.hopkinscochamber.com/events/details/ribbon-cutting-eastern-kentucky-hemp-company-5019
END:VEVENT

END:VCALENDAR
