BEGIN:VCALENDAR
VERSION:2.0
PRODID:-//ChamberMaster//Event Calendar 2.0//EN
METHOD:PUBLISH
X-PUBLISHED-TTL:P3D
REFRESH-INTERVAL:P3D
CALSCALE:GREGORIAN
BEGIN:VEVENT
DTSTART:20230616T163000Z
DTEND:20230616T170000Z
X-MICROSOFT-CDO-ALLDAYEVENT:FALSE
SUMMARY:Ribbon Cutting- Drip Therapy Lounge
DESCRIPTION:Please join us for the Ribbon Cutting of Drip Therapy Lounge.
X-ALT-DESC;FMTTYPE=text/html:Please join us for the Ribbon Cutting of Drip Therapy Lounge.
LOCATION:501 Industrial Court Madisonville KY
UID:e.1578.5954
SEQUENCE:3
DTSTAMP:20260423T044324Z
URL:https://business.hopkinscochamber.com/events/details/ribbon-cutting-drip-therapy-lounge-5954
END:VEVENT

END:VCALENDAR
