BEGIN:VCALENDAR
VERSION:2.0
PRODID:-//ChamberMaster//Event Calendar 2.0//EN
METHOD:PUBLISH
X-PUBLISHED-TTL:P3D
REFRESH-INTERVAL:P3D
CALSCALE:GREGORIAN
BEGIN:VEVENT
DTSTART:20240516T163000Z
DTEND:20240516T170000Z
X-MICROSOFT-CDO-ALLDAYEVENT:FALSE
SUMMARY:Ribbon Cutting - Divine Treasures Gifts & More
DESCRIPTION:Join us for a ribbon-cutting ceremony with Divine Treasures Gifts & More!
X-ALT-DESC;FMTTYPE=text/html:Join us for a ribbon-cutting ceremony with Divine Treasures Gifts &amp\; More!
LOCATION:13 Sugg St. Madisonville\, KY 42431
UID:e.1578.5993
SEQUENCE:3
DTSTAMP:20260422T112215Z
URL:https://business.hopkinscochamber.com/events/details/ribbon-cutting-divine-treasures-gifts-more-5993
END:VEVENT

END:VCALENDAR
