BEGIN:VCALENDAR
VERSION:2.0
PRODID:-//ChamberMaster//Event Calendar 2.0//EN
METHOD:PUBLISH
X-PUBLISHED-TTL:P3D
REFRESH-INTERVAL:P3D
CALSCALE:GREGORIAN
BEGIN:VEVENT
DTSTART:20240425T223000Z
DTEND:20240425T230000Z
X-MICROSOFT-CDO-ALLDAYEVENT:FALSE
SUMMARY:Ribbon Cutting - Dibby's Icecream
DESCRIPTION:Join us for a ribbon-cutting ceremony to celebrate the re-opening of Dibby's Icecream Truck!
X-ALT-DESC;FMTTYPE=text/html:Join us for a ribbon-cutting ceremony to celebrate the re-opening of Dibby&#39\;s Icecream Truck!&nbsp\;
LOCATION:Mahr Park At the picnic pavilion beside the nature play area
UID:e.1578.5987
SEQUENCE:3
DTSTAMP:20260422T124412Z
URL:https://business.hopkinscochamber.com/events/details/ribbon-cutting-dibby-s-icecream-5987
END:VEVENT

END:VCALENDAR
