BEGIN:VCALENDAR
VERSION:2.0
PRODID:-//ChamberMaster//Event Calendar 2.0//EN
METHOD:PUBLISH
X-PUBLISHED-TTL:P3D
REFRESH-INTERVAL:P3D
CALSCALE:GREGORIAN
BEGIN:VEVENT
DTSTART:20220329T160000Z
DTEND:20220329T163000Z
X-MICROSOFT-CDO-ALLDAYEVENT:FALSE
SUMMARY:Ribbon Cutting - Cute as a Button Boutique
DESCRIPTION:Join us at our ribbon cutting to celebrate Cute as a Button Boutique's NEW location!
X-ALT-DESC;FMTTYPE=text/html:Join us at our ribbon cutting to celebrate Cute as a Button Boutique&#39\;s NEW location!&nbsp\;
LOCATION:410 E. Arch St Madisonville KY 42431
UID:e.1578.5684
SEQUENCE:3
DTSTAMP:20260423T233456Z
URL:https://business.hopkinscochamber.com/events/details/ribbon-cutting-cute-as-a-button-boutique-5684
END:VEVENT

END:VCALENDAR
