BEGIN:VCALENDAR
VERSION:2.0
PRODID:-//ChamberMaster//Event Calendar 2.0//EN
METHOD:PUBLISH
X-PUBLISHED-TTL:P3D
REFRESH-INTERVAL:P3D
CALSCALE:GREGORIAN
BEGIN:VEVENT
DTSTART:20231020T163000Z
DTEND:20231020T170000Z
X-MICROSOFT-CDO-ALLDAYEVENT:FALSE
SUMMARY:Ribbon Cutting- Cole & Durham
DESCRIPTION:Please join us for the Ribbon Cutting of Cole & Durham
X-ALT-DESC;FMTTYPE=text/html:Please join us for the Ribbon Cutting of Cole &amp\; Durham&nbsp\;
LOCATION:1075 N. Main St.
UID:e.1578.5973
SEQUENCE:3
DTSTAMP:20260423T004150Z
URL:https://business.hopkinscochamber.com/events/details/ribbon-cutting-cole-amp-durham-5973
END:VEVENT

END:VCALENDAR
