BEGIN:VCALENDAR
VERSION:2.0
PRODID:-//ChamberMaster//Event Calendar 2.0//EN
METHOD:PUBLISH
X-PUBLISHED-TTL:P3D
REFRESH-INTERVAL:P3D
CALSCALE:GREGORIAN
BEGIN:VEVENT
DTSTART:20241008T163000Z
DTEND:20241008T170000Z
X-MICROSOFT-CDO-ALLDAYEVENT:FALSE
SUMMARY:Ribbon Cutting - Burger King
DESCRIPTION:Join us for the ribbon-cutting ceremony celebrating Burger King's reopening on Chelsea Drive!
X-ALT-DESC;FMTTYPE=text/html:Join us for the ribbon-cutting ceremony celebrating Burger King&#39\;s reopening on Chelsea Drive!&nbsp\;
LOCATION:1490 Chelsea Drive Madisonville KY 42431
UID:e.1578.6013
SEQUENCE:3
DTSTAMP:20260420T060749Z
URL:https://business.hopkinscochamber.com/events/details/ribbon-cutting-burger-king-6013
END:VEVENT

END:VCALENDAR
