BEGIN:VCALENDAR
VERSION:2.0
PRODID:-//ChamberMaster//Event Calendar 2.0//EN
METHOD:PUBLISH
X-PUBLISHED-TTL:P3D
REFRESH-INTERVAL:P3D
CALSCALE:GREGORIAN
BEGIN:VEVENT
DTSTART:20210827T163000Z
DTEND:20210827T170000Z
X-MICROSOFT-CDO-ALLDAYEVENT:FALSE
SUMMARY:Ribbon Cutting - Bluegrass Kids Therapy
DESCRIPTION:Come out and help us celebrate Bluegrass Kids Therapy!
X-ALT-DESC;FMTTYPE=text/html:Come out and help us celebrate Bluegrass Kids Therapy!
LOCATION:This event will take place at 23 West Center Street in Madisonville KY.
UID:e.1578.5209
SEQUENCE:3
DTSTAMP:20260424T084206Z
URL:https://business.hopkinscochamber.com/events/details/ribbon-cutting-bluegrass-kids-therapy-5209
END:VEVENT

END:VCALENDAR
