BEGIN:VCALENDAR
VERSION:2.0
PRODID:-//ChamberMaster//Event Calendar 2.0//EN
METHOD:PUBLISH
X-PUBLISHED-TTL:P3D
REFRESH-INTERVAL:P3D
CALSCALE:GREGORIAN
BEGIN:VEVENT
DTSTART:20210108T173000Z
DTEND:20210108T180000Z
X-MICROSOFT-CDO-ALLDAYEVENT:FALSE
SUMMARY:Ribbon-Cutting Black Pearl Home Care- Madisonville
DESCRIPTION:Black Pearl Home Care - Madisonville
X-ALT-DESC;FMTTYPE=text/html:Black Pearl Home Care - Madisonville&nbsp\;
LOCATION:301 E. Center St.\, Madisonville\, KY 42431
UID:e.1578.4373
SEQUENCE:3
DTSTAMP:20260424T172023Z
URL:https://business.hopkinscochamber.com/events/details/ribbon-cutting-black-pearl-home-care-madisonville-4373
END:VEVENT

END:VCALENDAR
