BEGIN:VCALENDAR
VERSION:2.0
PRODID:-//ChamberMaster//Event Calendar 2.0//EN
METHOD:PUBLISH
X-PUBLISHED-TTL:P3D
REFRESH-INTERVAL:P3D
CALSCALE:GREGORIAN
BEGIN:VEVENT
DTSTART:20240319T163000Z
DTEND:20240319T170000Z
X-MICROSOFT-CDO-ALLDAYEVENT:FALSE
SUMMARY:Ribbon Cutting - Below Zero Frozen Yogurt
DESCRIPTION:Join us for a ribbon-cutting ceremony to celebrate Below Zero Frozen Yogurt!
X-ALT-DESC;FMTTYPE=text/html:Join us for a ribbon-cutting ceremony to celebrate Below Zero Frozen Yogurt!
LOCATION:186 Madison Square Dr. Madisonville\, KY 42431
UID:e.1578.5988
SEQUENCE:3
DTSTAMP:20260422T141429Z
URL:https://business.hopkinscochamber.com/events/details/ribbon-cutting-below-zero-frozen-yogurt-5988
END:VEVENT

END:VCALENDAR
