BEGIN:VCALENDAR
VERSION:2.0
PRODID:-//ChamberMaster//Event Calendar 2.0//EN
METHOD:PUBLISH
X-PUBLISHED-TTL:P3D
REFRESH-INTERVAL:P3D
CALSCALE:GREGORIAN
BEGIN:VEVENT
DTSTART:20211020T150000Z
DTEND:20211020T160000Z
X-MICROSOFT-CDO-ALLDAYEVENT:FALSE
SUMMARY:Pennyrile Grandparent's Support Group
DESCRIPTION:For the Pennyrile Area Development District
X-ALT-DESC;FMTTYPE=text/html:For the Pennyrile Area Development District
LOCATION:Virtual via Zoom
UID:e.1578.5276
SEQUENCE:3
DTSTAMP:20260424T055149Z
URL:https://business.hopkinscochamber.com/events/details/pennyrile-grandparent-s-support-group-5276
END:VEVENT

END:VCALENDAR
