BEGIN:VCALENDAR
VERSION:2.0
PRODID:-//ChamberMaster//Event Calendar 2.0//EN
METHOD:PUBLISH
X-PUBLISHED-TTL:P3D
REFRESH-INTERVAL:P3D
CALSCALE:GREGORIAN
BEGIN:VEVENT
DTSTART;VALUE=DATE:20210906
DTEND;VALUE=DATE:20210907
TRANSP:TRANSPARENT
X-MICROSOFT-CDO-ALLDAYEVENT:TRUE
SUMMARY:Office Closed - Labor Day Holiday
DESCRIPTION:Labor Day Holiday
X-ALT-DESC;FMTTYPE=text/html:Labor Day Holiday
LOCATION:Office Closed
UID:e.1578.4505
SEQUENCE:3
DTSTAMP:20260424T065832Z
URL:https://business.hopkinscochamber.com/events/details/office-closed-labor-day-holiday-4505
END:VEVENT

END:VCALENDAR
