BEGIN:VCALENDAR
VERSION:2.0
PRODID:-//ChamberMaster//Event Calendar 2.0//EN
METHOD:PUBLISH
X-PUBLISHED-TTL:P3D
REFRESH-INTERVAL:P3D
CALSCALE:GREGORIAN
BEGIN:VEVENT
DTSTART;VALUE=DATE:20210705
DTEND;VALUE=DATE:20210706
TRANSP:TRANSPARENT
X-MICROSOFT-CDO-ALLDAYEVENT:TRUE
SUMMARY:Office Closed - Independence Day Holiday
DESCRIPTION:Independence Day Holiday
X-ALT-DESC;FMTTYPE=text/html:Independence Day Holiday
LOCATION:Office Closed
UID:e.1578.4504
SEQUENCE:3
DTSTAMP:20260424T092758Z
URL:https://business.hopkinscochamber.com/events/details/office-closed-independence-day-holiday-4504
END:VEVENT

END:VCALENDAR
