BEGIN:VCALENDAR
VERSION:2.0
PRODID:-//ChamberMaster//Event Calendar 2.0//EN
METHOD:PUBLISH
X-PUBLISHED-TTL:P3D
REFRESH-INTERVAL:P3D
CALSCALE:GREGORIAN
BEGIN:VEVENT
DTSTART:20240903T000000Z
DTEND:20240903T010000Z
X-MICROSOFT-CDO-ALLDAYEVENT:FALSE
SUMMARY:Nortonville City Council Meeting
DESCRIPTION:
X-ALT-DESC;FMTTYPE=text/html:
LOCATION:
UID:e.1578.2760
SEQUENCE:3
DTSTAMP:20260420T062345Z
URL:https://business.hopkinscochamber.com/events/details/nortonville-city-council-meeting-09-02-2024-2760
END:VEVENT

END:VCALENDAR
