BEGIN:VCALENDAR
VERSION:2.0
PRODID:-//ChamberMaster//Event Calendar 2.0//EN
METHOD:PUBLISH
X-PUBLISHED-TTL:P3D
REFRESH-INTERVAL:P3D
CALSCALE:GREGORIAN
BEGIN:VEVENT
DTSTART:20210923T150000Z
DTEND:20210923T190000Z
X-MICROSOFT-CDO-ALLDAYEVENT:FALSE
SUMMARY:Murray State Madisonville VIP Day
DESCRIPTION:Prospective students will have the opportunity to apply for FREE and have any KCTCS transcripts sent on their behalf for FREE!  All students that participate will receive a Murray shirt!
X-ALT-DESC;FMTTYPE=text/html:<p><span style="font-family:calibri\,sans-serif\;"><span style="font-size:11.0pt\;">Prospective students will have the opportunity to apply for FREE and have any KCTCS transcripts sent on their behalf for FREE!&nbsp\; All students that participate will receive&nbsp\;a Murray shirt</span></span>!<br />\n&nbsp\;</p>\n
LOCATION:MCC Steve Beshear Postsecondary Education Building
UID:e.1578.5270
SEQUENCE:3
DTSTAMP:20260424T065855Z
URL:https://business.hopkinscochamber.com/events/details/murray-state-madisonville-vip-day-5270
END:VEVENT

END:VCALENDAR
