BEGIN:VCALENDAR
VERSION:2.0
PRODID:-//ChamberMaster//Event Calendar 2.0//EN
METHOD:PUBLISH
X-PUBLISHED-TTL:P3D
REFRESH-INTERVAL:P3D
CALSCALE:GREGORIAN
BEGIN:VEVENT
DTSTART:20211203T230000Z
DTEND:20211204T020000Z
X-MICROSOFT-CDO-ALLDAYEVENT:FALSE
SUMMARY:Mistletoe Art Stroll
DESCRIPTION:Support Madisonville businesses and creative artisans\, all while checking off your holiday shopping list! Downtown businesses will open their doors and host artisans in their stores. You can expect to find one-of-a-kind art\, including locally poured candles\, handcrafted jewelry\, pottery\, custom home decor\, and so much more! Many local stores and restaurants will have event specials and sales. The Christmas Tree lighting will take place at 5:30 p.m. that evening.
X-ALT-DESC;FMTTYPE=text/html:Support Madisonville businesses and creative artisans\, all while checking off your holiday shopping list! Downtown businesses will open their doors and host artisans in their stores. You can expect to find one-of-a-kind art\, including locally poured candles\, handcrafted jewelry\, pottery\, custom home decor\, and so much more! Many local stores and restaurants will have event specials and sales. The Christmas Tree lighting will take place at 5:30 p.m. that evening.&nbsp\;
LOCATION:Downtown Madisonville KY 42431
UID:e.1578.5317
SEQUENCE:3
DTSTAMP:20260424T031626Z
URL:https://business.hopkinscochamber.com/events/details/mistletoe-art-stroll-5317
END:VEVENT

END:VCALENDAR
