BEGIN:VCALENDAR
VERSION:2.0
PRODID:-//ChamberMaster//Event Calendar 2.0//EN
METHOD:PUBLISH
X-PUBLISHED-TTL:P3D
REFRESH-INTERVAL:P3D
CALSCALE:GREGORIAN
BEGIN:VEVENT
DTSTART:20211104T213000Z
DTEND:20211105T000000Z
X-MICROSOFT-CDO-ALLDAYEVENT:FALSE
SUMMARY:Minority Economic Development Business After Hours
DESCRIPTION:
X-ALT-DESC;FMTTYPE=text/html:
LOCATION:Mahr Park Arboretum\, Barn A 465 Mahr Park Drive\, Madisonville KY\, 42431
UID:e.1578.5280
SEQUENCE:3
DTSTAMP:20260424T054605Z
URL:https://business.hopkinscochamber.com/events/details/minority-economic-development-business-after-hours-5280
END:VEVENT

END:VCALENDAR
