BEGIN:VCALENDAR
VERSION:2.0
PRODID:-//ChamberMaster//Event Calendar 2.0//EN
METHOD:PUBLISH
X-PUBLISHED-TTL:P3D
REFRESH-INTERVAL:P3D
CALSCALE:GREGORIAN
BEGIN:VEVENT
DTSTART:20210116T200000Z
DTEND:20210116T220000Z
X-MICROSOFT-CDO-ALLDAYEVENT:FALSE
SUMMARY:Martin Luther King Celebration 2021 - Online Event
DESCRIPTION:Martin Luther King Online Event\n\nEmpowering the Dream\n\nKeynote Speaker - Mr. Terrance Sullivan J.D.\n\nExecutive Director\, Kentucky Commission on Human Rights
X-ALT-DESC;FMTTYPE=text/html:Martin Luther King Online Event<br />\nEmpowering the Dream<br />\nKeynote Speaker - Mr. Terrance Sullivan J.D.<br />\nExecutive Director\, Kentucky Commission on Human Rights&nbsp\;
LOCATION:Online Event hosted by Focus with Tim Thomas
UID:e.1578.4376
SEQUENCE:3
DTSTAMP:20260424T171633Z
URL:https://business.hopkinscochamber.com/events/details/martin-luther-king-celebration-2021-online-event-4376
END:VEVENT

END:VCALENDAR
