BEGIN:VCALENDAR
VERSION:2.0
PRODID:-//ChamberMaster//Event Calendar 2.0//EN
METHOD:PUBLISH
X-PUBLISHED-TTL:P3D
REFRESH-INTERVAL:P3D
CALSCALE:GREGORIAN
BEGIN:VEVENT
DTSTART:20210817T170000Z
DTEND:20210817T180000Z
X-MICROSOFT-CDO-ALLDAYEVENT:FALSE
SUMMARY:Marketing Your Small Business
DESCRIPTION:Small Business Summer Series - Marketing Your Small Business featuring Amy Clevidence\, President of Socially Present. \n\n\n\nMeet Amy\n\nAmy is the President of Socially Present. In this role\, she oversees the agency's business operations and production team ensuring timely project delivery and effective communication between the agency and its 400+ client roster. Whether building a website\, designing a logo\, managing social media\, preparing traditional print materials\, or producing a film. her goal is to help Socially Present's clients accomplish their vision and grow their company.
X-ALT-DESC;FMTTYPE=text/html:<p><span style="font-size:12px\;"><span class="JsGRdQ">Small Business Summer Series -&nbsp\;Marketing Your Small Business featuring Amy Clevidence\, President of Socially Present.&nbsp\;<br />\n<br />\n<u><strong>Meet Amy</strong></u></span></span></p>\n\n<p><span style="font-size:12px\;"><span class="JsGRdQ">Amy is the President of Socially Present. In this role\, she oversees the agency&rsquo\;s business operations and production team ensuring timely project delivery and effective communication between the agency and its 400+ client roster. Whether building a website\, designing a logo\, managing social media\, preparing traditional print materials\, or producing a film.&nbsp\;her goal is to help Socially Present&#39\;s clients accomplish their vision and grow their company.</span></span></p>\n
LOCATION:Hopkins County Regional Chamber Of Commerce
UID:e.1578.1075
SEQUENCE:3
DTSTAMP:20260424T092251Z
URL:https://business.hopkinscochamber.com/events/details/marketing-your-small-business-1075
END:VEVENT

END:VCALENDAR
