BEGIN:VCALENDAR
VERSION:2.0
PRODID:-//ChamberMaster//Event Calendar 2.0//EN
METHOD:PUBLISH
X-PUBLISHED-TTL:P3D
REFRESH-INTERVAL:P3D
CALSCALE:GREGORIAN
BEGIN:VEVENT
DTSTART:20230729T233000Z
DTEND:20230730T020000Z
X-MICROSOFT-CDO-ALLDAYEVENT:FALSE
SUMMARY:Madisonville Summer Concert Series
DESCRIPTION:The City of Madisonville\, Kentucky\, proudly announces the 2023 Summer\n\nConcert Series. The concerts will take place on select Saturday nights on the First United Bank & Trust Plaza Stage in downtown Madisonville. The Plaza will have food trucks\, a beer garden\, and other vendors each evening of the series. Admission is FREE\, and entertainment begins at approximately 6:30 pm each night.\n\n \n\nThe entertainment for July 29th is Mae Estes with "A Barber\, A Baker\, and A Heartbreaker."
X-ALT-DESC;FMTTYPE=text/html:<p style="margin-bottom: calc(1rem * var(--rps-global-vertical-space) * var(--rps-global-line-height))\; font-size: var(--tec-font-size-4)\; line-height: 1.4em\; margin-top: calc(1rem * var(--rps-global-vertical-space) * var(--rps-global-line-height))\; --p-drop-cap-font-size: 400%\; --p-drop-cap-line-height: 1\; --p-drop-cap-font-family: inherit\; color: rgb(20\, 24\, 39)\; font-family: Roboto\; background-attachment: unset !important\;">The City of Madisonville\, Kentucky\, proudly announces the 2023 Summer<br style="background-attachment: unset !important\;" />\nConcert Series. The concerts will take place on select Saturday nights on the First United Bank &amp\; Trust Plaza Stage in downtown Madisonville. The Plaza will have food trucks\, a beer garden\, and other vendors each evening of the series. Admission is FREE\, and entertainment begins at approximately 6:30 pm each night.</p>\n\n<p style="margin-bottom: calc(1rem * var(--rps-global-vertical-space) * var(--rps-global-line-height))\; font-size: var(--tec-font-size-4)\; line-height: 1.4em\; margin-top: calc(1rem * var(--rps-global-vertical-space) * var(--rps-global-line-height))\; --p-drop-cap-font-size: 400%\; --p-drop-cap-line-height: 1\; --p-drop-cap-font-family: inherit\; color: rgb(20\, 24\, 39)\; font-family: Roboto\; background-attachment: unset !important\;">&nbsp\;</p>\n\n<p style="margin-bottom: calc(1rem * var(--rps-global-vertical-space) * var(--rps-global-line-height))\; font-size: var(--tec-font-size-4)\; line-height: 1.4em\; margin-top: calc(1rem * var(--rps-global-vertical-space) * var(--rps-global-line-height))\; --p-drop-cap-font-size: 400%\; --p-drop-cap-line-height: 1\; --p-drop-cap-font-family: inherit\; color: rgb(20\, 24\, 39)\; font-family: Roboto\; background-attachment: unset !important\;">The entertainment for July 29th is Mae Estes with &ldquo\;A Barber\, A Baker\, and A Heartbreaker.&rdquo\;</p>\n
LOCATION:First United Bank and Trust Stage in downtown Madisonville
UID:e.1578.5953
SEQUENCE:3
DTSTAMP:20260423T033308Z
URL:https://business.hopkinscochamber.com/events/details/madisonville-summer-concert-series-5953
END:VEVENT

END:VCALENDAR
