BEGIN:VCALENDAR
VERSION:2.0
PRODID:-//ChamberMaster//Event Calendar 2.0//EN
METHOD:PUBLISH
X-PUBLISHED-TTL:P3D
REFRESH-INTERVAL:P3D
CALSCALE:GREGORIAN
BEGIN:VEVENT
DTSTART;VALUE=DATE:20201206
DTEND;VALUE=DATE:20201220
TRANSP:TRANSPARENT
X-MICROSOFT-CDO-ALLDAYEVENT:TRUE
SUMMARY:Madisonville Noon Kiwanis “Home for Christmas“ Parade of Lights
DESCRIPTION:Madisonville Noon Kiwanis Club is excited to announce the 2020 "Home for Christmas" Parade of Lights! From December 5th to December 19th\, 2020\, our community will get to vote on their favorite Christmas lighting displays. Winners in each of three categories will be announced the week before Christmas.\n\n \n\nParade of Lights - Interactive Map:\n\nhttps://hopkinscountygis.maps.arcgis.com/apps/webappviewer/index.html?id=29acad12fac34eeda402f7cbfa2f3596 \n\n \n\nParade of Lights - Voting Form:\n\nhttps://forms.gle/7DgZNxy9pqKnzXGa6
X-ALT-DESC;FMTTYPE=text/html:<p class="p1" style="margin: 0px\; font-variant-numeric: normal\; font-variant-east-asian: normal\; font-stretch: normal\; font-size: 12px\; line-height: normal\; font-family: &quot\;Helvetica Neue&quot\;\; color: rgb(69\, 69\, 69)\;">Madisonville Noon Kiwanis Club is excited to announce the 2020 &ldquo\;Home for Christmas&ldquo\; Parade of Lights! From December 5th to December 19th\, 2020\, our community will get to vote on their favorite Christmas lighting displays. Winners in each of three categories will be announced the week before Christmas.</p>\n\n<p class="p2" style="margin: 0px\; font-variant-numeric: normal\; font-variant-east-asian: normal\; font-stretch: normal\; font-size: 12px\; line-height: normal\; font-family: &quot\;Helvetica Neue&quot\;\; color: rgb(69\, 69\, 69)\; min-height: 14px\;">&nbsp\;</p>\n\n<p class="p1" style="margin: 0px\; font-variant-numeric: normal\; font-variant-east-asian: normal\; font-stretch: normal\; font-size: 12px\; line-height: normal\; font-family: &quot\;Helvetica Neue&quot\;\; color: rgb(69\, 69\, 69)\;">Parade of Lights - Interactive Map:</p>\n\n<p class="p3" style="margin: 0px\; font-variant-numeric: normal\; font-variant-east-asian: normal\; font-stretch: normal\; font-size: 12px\; line-height: normal\; font-family: &quot\;Helvetica Neue&quot\;\; color: rgb(228\, 175\, 10)\;"><span class="s1" style="text-decoration-line: underline\;"><a href="https://hopkinscountygis.maps.arcgis.com/apps/webappviewer/index.html?id=29acad12fac34eeda402f7cbfa2f3596">https://hopkinscountygis.maps.arcgis.com/apps/webappviewer/index.html?id=29acad12fac34eeda402f7cbfa2f3596</a></span><span class="s2" style="color: rgb(69\, 69\, 69)\;">&nbsp\;</span></p>\n\n<p class="p2" style="margin: 0px\; font-variant-numeric: normal\; font-variant-east-asian: normal\; font-stretch: normal\; font-size: 12px\; line-height: normal\; font-family: &quot\;Helvetica Neue&quot\;\; color: rgb(69\, 69\, 69)\; min-height: 14px\;">&nbsp\;</p>\n\n<p class="p1" style="margin: 0px\; font-variant-numeric: normal\; font-variant-east-asian: normal\; font-stretch: normal\; font-size: 12px\; line-height: normal\; font-family: &quot\;Helvetica Neue&quot\;\; color: rgb(69\, 69\, 69)\;">Parade of Lights - Voting Form:</p>\n\n<p class="p3" style="margin: 0px\; font-variant-numeric: normal\; font-variant-east-asian: normal\; font-stretch: normal\; font-size: 12px\; line-height: normal\; font-family: &quot\;Helvetica Neue&quot\;\; color: rgb(228\, 175\, 10)\;"><span class="s1" style="text-decoration-line: underline\;"><a href="https://forms.gle/7DgZNxy9pqKnzXGa6">https://forms.gle/7DgZNxy9pqKnzXGa6</a></span><span class="s2" style="color: rgb(69\, 69\, 69)\;">&nbsp\;</span></p>\n
LOCATION:
UID:e.1578.4371
SEQUENCE:3
DTSTAMP:20260424T183731Z
URL:https://business.hopkinscochamber.com/events/details/madisonville-noon-kiwanis-home-for-christmas-parade-of-lights-4371
END:VEVENT

END:VCALENDAR
