BEGIN:VCALENDAR
VERSION:2.0
PRODID:-//ChamberMaster//Event Calendar 2.0//EN
METHOD:PUBLISH
X-PUBLISHED-TTL:P3D
REFRESH-INTERVAL:P3D
CALSCALE:GREGORIAN
BEGIN:VEVENT
DTSTART:20210623T140000Z
DTEND:20210623T163000Z
X-MICROSOFT-CDO-ALLDAYEVENT:FALSE
SUMMARY:Madisonville Miners Baseball Camp
DESCRIPTION:The Madisonville Miners will be hosting two baseball camps.  The camp cost is $50.00 per child which includes both sessions.  Sessions will be hosted on two separate days.  Instruction will be conducted by college baseball
X-ALT-DESC;FMTTYPE=text/html:The Madisonville Miners will be hosting two baseball camps.&nbsp\; The camp cost is $50.00 per child which includes both sessions.&nbsp\; Sessions will be hosted on two separate days.&nbsp\; Instruction will be conducted by college baseball
LOCATION:Elmer Kelley Stadium Inside of the Madisonville City Park
UID:e.1578.5036
SEQUENCE:3
DTSTAMP:20260424T120447Z
URL:https://business.hopkinscochamber.com/events/details/madisonville-miners-baseball-camp-5036
END:VEVENT

END:VCALENDAR
