BEGIN:VCALENDAR
VERSION:2.0
PRODID:-//ChamberMaster//Event Calendar 2.0//EN
METHOD:PUBLISH
X-PUBLISHED-TTL:P3D
REFRESH-INTERVAL:P3D
CALSCALE:GREGORIAN
BEGIN:VEVENT
DTSTART:20210622T140000Z
DTEND:20210622T163000Z
X-MICROSOFT-CDO-ALLDAYEVENT:FALSE
SUMMARY:Madisonville Miners Baseball Camp
DESCRIPTION:The Madisonville Minters will be hosting two baseball camos\,  The cost is $50.00 per child which includes both sessions.  Instruction will be conducted by college baseball coaches and players.  Includes t-shirt\, ticket to a Miners baseball game\, and valuable baseball instruction.
X-ALT-DESC;FMTTYPE=text/html:The Madisonville Minters will be hosting two baseball camos\,&nbsp\; The cost is $50.00 per child which includes both sessions.&nbsp\; Instruction will be conducted by college baseball coaches and players.&nbsp\; Includes t-shirt\, ticket to a Miners baseball game\, and valuable baseball instruction.
LOCATION:Elmer Kelley Stadium Inside the Madisonville City Park
UID:e.1578.5035
SEQUENCE:3
DTSTAMP:20260424T103831Z
URL:https://business.hopkinscochamber.com/events/details/madisonville-miners-baseball-camp-5035
END:VEVENT

END:VCALENDAR
