BEGIN:VCALENDAR
VERSION:2.0
PRODID:-//ChamberMaster//Event Calendar 2.0//EN
METHOD:PUBLISH
X-PUBLISHED-TTL:P3D
REFRESH-INTERVAL:P3D
CALSCALE:GREGORIAN
BEGIN:VEVENT
DTSTART:20210716T233000Z
DTEND:20210717T020000Z
X-MICROSOFT-CDO-ALLDAYEVENT:FALSE
SUMMARY:Madisonville Miners Baseball
DESCRIPTION:Madisonville Miners Baseball vs. Full Count Rhythm\n\n$5.00/ticket - Children 12 and under free admission
X-ALT-DESC;FMTTYPE=text/html:Madisonville Miners Baseball vs. Full Count Rhythm<br />\n$5.00/ticket - Children 12 and under free admission
LOCATION:Elmer Kelley Stadium Madisonville City Park
UID:e.1578.5178
SEQUENCE:3
DTSTAMP:20260424T092824Z
URL:https://business.hopkinscochamber.com/events/details/madisonville-miners-baseball-5178
END:VEVENT

END:VCALENDAR
