BEGIN:VCALENDAR
VERSION:2.0
PRODID:-//ChamberMaster//Event Calendar 2.0//EN
METHOD:PUBLISH
X-PUBLISHED-TTL:P3D
REFRESH-INTERVAL:P3D
CALSCALE:GREGORIAN
BEGIN:VEVENT
DTSTART:20210706T233000Z
DTEND:20210707T020000Z
X-MICROSOFT-CDO-ALLDAYEVENT:FALSE
SUMMARY:Madisonville Miners Baseball
DESCRIPTION:Madisonville Miners Baseball vs. Hoptown Hoppers\n\n$5.00/ticket - Children 12 and under free admission
X-ALT-DESC;FMTTYPE=text/html:Madisonville Miners Baseball vs. Hoptown Hoppers<br />\n$5.00/ticket - Children 12 and under free admission
LOCATION:Elmer Kelley Stadium Madisonville City Park
UID:e.1578.5173
SEQUENCE:3
DTSTAMP:20260424T093022Z
URL:https://business.hopkinscochamber.com/events/details/madisonville-miners-baseball-5173
END:VEVENT

END:VCALENDAR
