BEGIN:VCALENDAR
VERSION:2.0
PRODID:-//ChamberMaster//Event Calendar 2.0//EN
METHOD:PUBLISH
X-PUBLISHED-TTL:P3D
REFRESH-INTERVAL:P3D
CALSCALE:GREGORIAN
BEGIN:VEVENT
DTSTART:20210625T233000Z
DTEND:20210626T020000Z
X-MICROSOFT-CDO-ALLDAYEVENT:FALSE
SUMMARY:Madisonville Miners Baseball
DESCRIPTION:Madisonville Miners Baseball vs. Owensboro RiverDawgs\n\n$5.00/ticket - Children 12 and under free admission
X-ALT-DESC;FMTTYPE=text/html:Madisonville Miners Baseball vs. Owensboro RiverDawgs<br />\n$5.00/ticket - Children 12 and under free admission
LOCATION:Elmer Kelley Stadium Madisonville City Park
UID:e.1578.5170
SEQUENCE:3
DTSTAMP:20260424T120335Z
URL:https://business.hopkinscochamber.com/events/details/madisonville-miners-baseball-5170
END:VEVENT

END:VCALENDAR
