BEGIN:VCALENDAR
VERSION:2.0
PRODID:-//ChamberMaster//Event Calendar 2.0//EN
METHOD:PUBLISH
X-PUBLISHED-TTL:P3D
REFRESH-INTERVAL:P3D
CALSCALE:GREGORIAN
BEGIN:VEVENT
DTSTART:20210623T233000Z
DTEND:20210624T020000Z
X-MICROSOFT-CDO-ALLDAYEVENT:FALSE
SUMMARY:Madisonville Miners Baseball
DESCRIPTION:Madisonville Miners Baseball Game vs. Muhlenberg County Stallions\n\n$5.00/ticket  - Children 12 and under free
X-ALT-DESC;FMTTYPE=text/html:Madisonville Miners Baseball Game vs. Muhlenberg County Stallions<br />\n$5.00/ticket&nbsp\; - Children 12 and under free
LOCATION:Elmer Kelley Stadium Madisonville City Park
UID:e.1578.5169
SEQUENCE:3
DTSTAMP:20260424T103817Z
URL:https://business.hopkinscochamber.com/events/details/madisonville-miners-baseball-5169
END:VEVENT

END:VCALENDAR
