BEGIN:VCALENDAR
VERSION:2.0
PRODID:-//ChamberMaster//Event Calendar 2.0//EN
METHOD:PUBLISH
X-PUBLISHED-TTL:P3D
REFRESH-INTERVAL:P3D
CALSCALE:GREGORIAN
BEGIN:VEVENT
DTSTART:20210619T233000Z
DTEND:20210620T010000Z
X-MICROSOFT-CDO-ALLDAYEVENT:FALSE
SUMMARY:Madisonville Miners Baseball
DESCRIPTION:Madisonville Miners Baseball Game vs. Dubois County Bombers\n\n$5.00/ticket - Children 12 and under free admission
X-ALT-DESC;FMTTYPE=text/html:Madisonville Miners Baseball Game vs. Dubois County Bombers<br />\n$5.00/ticket - Children 12 and under free admission
LOCATION:Elmer Kelley Stadium Madisonville City Park
UID:e.1578.5168
SEQUENCE:3
DTSTAMP:20260424T103720Z
URL:https://business.hopkinscochamber.com/events/details/madisonville-miners-baseball-5168
END:VEVENT

END:VCALENDAR
