BEGIN:VCALENDAR
VERSION:2.0
PRODID:-//ChamberMaster//Event Calendar 2.0//EN
METHOD:PUBLISH
X-PUBLISHED-TTL:P3D
REFRESH-INTERVAL:P3D
CALSCALE:GREGORIAN
BEGIN:VEVENT
DTSTART:20230830T170000Z
DTEND:20230830T180000Z
X-MICROSOFT-CDO-ALLDAYEVENT:FALSE
SUMMARY:Madisonville Lions Club
DESCRIPTION:
X-ALT-DESC;FMTTYPE=text/html:
LOCATION:
UID:e.1578.1374
SEQUENCE:3
DTSTAMP:20260423T023825Z
URL:https://business.hopkinscochamber.com/events/details/madisonville-lions-club-08-30-2023-1374
END:VEVENT

END:VCALENDAR
