BEGIN:VCALENDAR
VERSION:2.0
PRODID:-//ChamberMaster//Event Calendar 2.0//EN
METHOD:PUBLISH
X-PUBLISHED-TTL:P3D
REFRESH-INTERVAL:P3D
CALSCALE:GREGORIAN
BEGIN:VEVENT
DTSTART:20211204T230000Z
DTEND:20211205T020000Z
X-MICROSOFT-CDO-ALLDAYEVENT:FALSE
SUMMARY:Madisonville Christmas Parade 2021
DESCRIPTION:The theme for this years Christmas Parade is going to be "Light The Night"! \nPaper entry forms are available at the following locations:\n\n- Madisonville City Hall\n\n- Hopkins County Chamber of Commerce\n\n- Hopkins County Tourism\n\n- First United Bank (Main Branch)\n\nEntry forms also available online at the link listed above!
X-ALT-DESC;FMTTYPE=text/html:The theme for this years Christmas Parade is going to be &quot\;Light The Night&quot\;!&nbsp\;\n<div class="o9v6fnle cxmmr5t8 oygrvhab hcukyx3x c1et5uql" style="overflow-wrap: break-word\; margin: 0.5em 0px 0px\; font-family: &quot\;Segoe UI Historic&quot\;\, &quot\;Segoe UI&quot\;\, Helvetica\, Arial\, sans-serif\; color: rgb(5\, 5\, 5)\; font-size: 15px\; background-color: rgb(255\, 255\, 255)\; animation-name: none !important\; transition-property: none !important\;">Paper entry forms are available at the following locations:<br style="animation-name: none !important\; transition-property: none !important\;" />\n- Madisonville City Hall<br style="animation-name: none !important\; transition-property: none !important\;" />\n- Hopkins County Chamber of Commerce<br style="animation-name: none !important\; transition-property: none !important\;" />\n- Hopkins County Tourism<br style="animation-name: none !important\; transition-property: none !important\;" />\n- First United Bank (Main Branch)</div>\n\n<div class="o9v6fnle cxmmr5t8 oygrvhab hcukyx3x c1et5uql" style="overflow-wrap: break-word\; margin: 0.5em 0px 0px\; font-family: &quot\;Segoe UI Historic&quot\;\, &quot\;Segoe UI&quot\;\, Helvetica\, Arial\, sans-serif\; color: rgb(5\, 5\, 5)\; font-size: 15px\; background-color: rgb(255\, 255\, 255)\; animation-name: none !important\; transition-property: none !important\;">Entry forms also available online at the link listed above!</div>\n
LOCATION:Downtown Madisonville KY\, 42431
UID:e.1578.5293
SEQUENCE:3
DTSTAMP:20260424T031731Z
URL:https://business.hopkinscochamber.com/events/details/madisonville-christmas-parade-2021-5293
END:VEVENT

END:VCALENDAR
