BEGIN:VCALENDAR
VERSION:2.0
PRODID:-//ChamberMaster//Event Calendar 2.0//EN
METHOD:PUBLISH
X-PUBLISHED-TTL:P3D
REFRESH-INTERVAL:P3D
CALSCALE:GREGORIAN
BEGIN:VEVENT
DTSTART:20230630T220000Z
DTEND:20230630T220000Z
X-MICROSOFT-CDO-ALLDAYEVENT:FALSE
SUMMARY:Madisonville 4th Fest 2023- Country Night
DESCRIPTION:The City of Madisonville\, Kentucky\, is proud to announce the 4th Fest and Praise in the Park lineup at Madisonville City Park on June 30th\, July 1st\, and 2nd. The annual event is the largest 3-day outdoor music festival in the region. It is FREE to attend and will feature world-class concerts\, food trucks\, various vendors\, a beer garden (Friday & Saturday only)\, kids' activities\, and fun for the entire family. This year's fireworks show will be on Tuesday\, July 4th\, following the Madisonville Miner's Game in Madisonville City Park.
X-ALT-DESC;FMTTYPE=text/html:<span style="color: rgb(20\, 24\, 39)\; font-family: Roboto\; font-size: 16px\;">The City of Madisonville\, Kentucky\, is proud to announce the 4th Fest and Praise in the Park lineup at Madisonville City Park on June 30th\, July 1st\, and 2nd. The annual event is the largest 3-day outdoor music festival in the region. It is FREE to attend and will feature world-class concerts\, food trucks\, various vendors\, a beer garden (Friday &amp\; Saturday only)\, kids&rsquo\; activities\, and fun for the entire family. This year&rsquo\;s fireworks show will be on Tuesday\, July 4th\, following the Madisonville Miner&rsquo\;s Game in Madisonville City Park.</span>
LOCATION:Madisonville City Park
UID:e.1578.5946
SEQUENCE:3
DTSTAMP:20260423T044832Z
URL:https://business.hopkinscochamber.com/events/details/madisonville-4th-fest-2023-country-night-5946
END:VEVENT

END:VCALENDAR
