BEGIN:VCALENDAR
VERSION:2.0
PRODID:-//ChamberMaster//Event Calendar 2.0//EN
METHOD:PUBLISH
X-PUBLISHED-TTL:P3D
REFRESH-INTERVAL:P3D
CALSCALE:GREGORIAN
BEGIN:VEVENT
DTSTART:20250726T153000Z
DTEND:20250726T200000Z
X-MICROSOFT-CDO-ALLDAYEVENT:FALSE
SUMMARY:MadCity Beauty Bash
DESCRIPTION:Join us for a day full of all things fashion\, beauty\, wellness\, health and more!\n\nWe will start with a fashion show from our local members\, and switch over to vendor booths in the afternoon. Stay tuned for a list of vendors!
X-ALT-DESC;FMTTYPE=text/html:Join us for a day full of all things fashion\, beauty\, wellness\, health and more!<br />\nWe will start with a fashion show from our local members\, and switch over to vendor booths in the afternoon. Stay tuned for a list of vendors!&nbsp\;&nbsp\;&nbsp\;&nbsp\;&nbsp\;
LOCATION:Mahr Park Barn A Madisonville KY 42431
UID:e.1578.6047
SEQUENCE:3
DTSTAMP:20260419T125626Z
URL:https://business.hopkinscochamber.com/events/details/madcity-beauty-bash-6047
END:VEVENT

END:VCALENDAR
