BEGIN:VCALENDAR
VERSION:2.0
PRODID:-//ChamberMaster//Event Calendar 2.0//EN
METHOD:PUBLISH
X-PUBLISHED-TTL:P3D
REFRESH-INTERVAL:P3D
CALSCALE:GREGORIAN
BEGIN:VEVENT
DTSTART:20211109T180000Z
DTEND:20211109T190000Z
X-MICROSOFT-CDO-ALLDAYEVENT:FALSE
SUMMARY:Lunch & Learn - Active Shooter Training and Workplace Violence
DESCRIPTION:Join us for lunch\, and learn about active shooter and workplace violence training. Lunch will be provided but RSVP is required.\n\n\n\nIf you need to pay with a card\, please call the chamber office at 270-821-3435.
X-ALT-DESC;FMTTYPE=text/html:Join us for lunch\, and learn about active shooter and workplace violence training. Lunch will be provided but RSVP is required.<br />\n<br />\nIf you need to pay with a card\, please call the chamber office at 270-821-3435.
LOCATION:Hopkins County Regional Chamber of Commerce 15 E. Center Street\, Madisonville KY\, 42431
UID:e.1578.5312
SEQUENCE:3
DTSTAMP:20260424T043944Z
URL:https://business.hopkinscochamber.com/events/details/lunch-learn-active-shooter-training-and-workplace-violence-5312
END:VEVENT

END:VCALENDAR
