BEGIN:VCALENDAR
VERSION:2.0
PRODID:-//ChamberMaster//Event Calendar 2.0//EN
METHOD:PUBLISH
X-PUBLISHED-TTL:P3D
REFRESH-INTERVAL:P3D
CALSCALE:GREGORIAN
BEGIN:VEVENT
DTSTART:20210927T210000Z
DTEND:20210927T212000Z
X-MICROSOFT-CDO-ALLDAYEVENT:FALSE
SUMMARY:Lexus Golf Cart Raffle Drawing
DESCRIPTION:Lexus of Lexington is raffling off a brand new\, custom-made golf cart donated by our friends at Golfcart Madness! Winner will also receive a $1\,000 Golfcart Madness gift card\, donated by Lexus of Lexington\, to use towards upgrades. Total value- $9\,000.  Tickets can be purchased exclusively at the following link: mapfoundationraffle.com. Tickets are $50 each and a maximum of 500 tickets will be sold. Proceeds will go towards the Woodhill Community Center and other youth focused charities. The drawing will be held on September 27th\, 2021 at 4PM Eastern via Facebook Live.
X-ALT-DESC;FMTTYPE=text/html:Lexus of Lexington is raffling off a brand new\, custom-made golf cart donated by our friends at Golfcart Madness! Winner will also receive a $1\,000 Golfcart Madness gift card\, donated by Lexus of Lexington\, to use towards upgrades. Total value- $9\,000.&nbsp\; Tickets can be purchased exclusively at the following link: mapfoundationraffle.com. Tickets are $50 each and a maximum of 500 tickets will be sold.&nbsp\;Proceeds will go towards the Woodhill Community Center and other youth focused charities. The drawing will be held on September 27th\, 2021 at 4PM Eastern via Facebook Live.
LOCATION:Facebook Live
UID:e.1578.5187
SEQUENCE:3
DTSTAMP:20260424T065843Z
URL:https://business.hopkinscochamber.com/events/details/lexus-golf-cart-raffle-drawing-5187
END:VEVENT

END:VCALENDAR
