BEGIN:VCALENDAR
VERSION:2.0
PRODID:-//ChamberMaster//Event Calendar 2.0//EN
METHOD:PUBLISH
X-PUBLISHED-TTL:P3D
REFRESH-INTERVAL:P3D
CALSCALE:GREGORIAN
BEGIN:VEVENT
DTSTART:20210321T210000Z
DTEND:20210321T212000Z
X-MICROSOFT-CDO-ALLDAYEVENT:FALSE
SUMMARY:Lexus for the Little Ones Raffle Drawing
DESCRIPTION:We are so excited to announce the 8th annual Lexus for the Little Ones Raffle to benefit Kentucky Kids! This year\, one lucky winner will win a BRAND NEW 2021 Lexus All-Wheel Drive ES 250 in the color of their choice. Tickets are $100 each and a maximum of 2\,000 tickets will be sold. Tickets can be purchased exclusively through the MAP Foundation at https://littleonesraffle.com/purchase. All proceeds will go to Kentucky Children's Hospital and the Woodhill Community Center! The Grand Prize drawing to select a winner will be held on Facebook Live on Sunday\, March 21st at 4PM Eastern.
X-ALT-DESC;FMTTYPE=text/html:We are so excited to announce the 8th annual Lexus for the Little Ones Raffle to benefit Kentucky Kids! This year\, one lucky winner will win a BRAND NEW 2021 Lexus All-Wheel Drive ES 250 in the color of their choice. Tickets are $100 each and a maximum of 2\,000 tickets will be sold. Tickets can be purchased exclusively through the MAP Foundation at https://littleonesraffle.com/purchase. All proceeds will go to Kentucky Children&rsquo\;s Hospital and the Woodhill Community Center! The Grand Prize drawing to select a winner will be held on Facebook Live on Sunday\, March 21st at 4PM Eastern.
LOCATION:Facebook Live
UID:e.1578.4512
SEQUENCE:3
DTSTAMP:20260424T155754Z
URL:https://business.hopkinscochamber.com/events/details/lexus-for-the-little-ones-raffle-drawing-4512
END:VEVENT

END:VCALENDAR
