BEGIN:VCALENDAR
VERSION:2.0
PRODID:-//ChamberMaster//Event Calendar 2.0//EN
METHOD:PUBLISH
X-PUBLISHED-TTL:P3D
REFRESH-INTERVAL:P3D
CALSCALE:GREGORIAN
BEGIN:VEVENT
DTSTART:20210827T170000Z
DTEND:20210827T180000Z
X-MICROSOFT-CDO-ALLDAYEVENT:FALSE
SUMMARY:Let's Do Lunch!
DESCRIPTION:Make new connections during the convenience of your lunch hour. Arrive promptly at Noon and bring 25 of your business cards or promotional items. We will order from the restaurant menu\, with meals costing between $7 and $15. There is a 20 person limit to this event\, so please make sure you RSVP to the website linked above!\n\nTo schedule a Let's Do Lunch at your business\, contact us as 270-821-3435.
X-ALT-DESC;FMTTYPE=text/html:Make new connections during the convenience of your lunch hour. Arrive promptly at Noon and bring 25 of your business cards or promotional items. We will order from the restaurant menu\, with meals costing between $7 and $15. There is a 20 person limit to this event\, so please make sure you RSVP to the website linked above!<br />\nTo schedule a Let&#39\;s Do Lunch at your business\, contact us as 270-821-3435.
LOCATION:This event will take place at Swaggy P's Country Market\, at 45 Veterans Drive in Hanson KY.
UID:e.1578.5203
SEQUENCE:3
DTSTAMP:20260424T092037Z
URL:https://business.hopkinscochamber.com/events/details/let-s-do-lunch-5203
END:VEVENT

END:VCALENDAR
