BEGIN:VCALENDAR
VERSION:2.0
PRODID:-//ChamberMaster//Event Calendar 2.0//EN
METHOD:PUBLISH
X-PUBLISHED-TTL:P3D
REFRESH-INTERVAL:P3D
CALSCALE:GREGORIAN
BEGIN:VEVENT
DTSTART:20210730T170000Z
DTEND:20210730T180000Z
X-MICROSOFT-CDO-ALLDAYEVENT:FALSE
SUMMARY:Let's Do Lunch
DESCRIPTION:Make new connections during the convenience of your lunch hour. Arrive promptly at 12:00 p.m. and bring 25 to 30 of your business cards and/or promotional items. Order from the restaurant menu\, with meals costing between $7 and $15.\n\nRSVP Here: http://erictestdevi.chambermaster.com/form/view/23588
X-ALT-DESC;FMTTYPE=text/html:<div class="kvgmc6g5 cxmmr5t8 oygrvhab hcukyx3x c1et5uql" style="overflow-wrap: break-word\; margin: 0px\; font-family: system-ui\, -apple-system\, system-ui\, &quot\;.SFNSText-Regular&quot\;\, sans-serif\; color: rgb(5\, 5\, 5)\; font-size: 15px\;">Make new connections during the convenience of your lunch hour. Arrive promptly at 12:00 p.m. and bring 25 to 30 of your business cards and/or promotional items. Order from the restaurant menu\, with meals costing between $7 and $15.</div>\n\n<div class="o9v6fnle cxmmr5t8 oygrvhab hcukyx3x c1et5uql" style="overflow-wrap: break-word\; margin: 0.5em 0px 0px\; font-family: system-ui\, -apple-system\, system-ui\, &quot\;.SFNSText-Regular&quot\;\, sans-serif\; color: rgb(5\, 5\, 5)\; font-size: 15px\;">RSVP Here:&nbsp\;<a class="oajrlxb2 g5ia77u1 qu0x051f esr5mh6w e9989ue4 r7d6kgcz rq0escxv nhd2j8a9 nc684nl6 p7hjln8o kvgmc6g5 cxmmr5t8 oygrvhab hcukyx3x jb3vyjys rz4wbd8a qt6c0cv9 a8nywdso i1ao9s8h esuyzwwr f1sip0of lzcic4wl py34i1dx gpro0wi8" href="http://erictestdevi.chambermaster.com/form/view/23588?fbclid=IwAR3y3E5da5BOKV-IZZbrnofY0rhoFNgRFtmMQ5yhk9mVWMEHRQ0Ka3D5mIc" rel="nofollow noopener" role="link" style="color: var(--blue-link)\; cursor: pointer\; text-decoration-line: none\; outline: none\; list-style: none\; border-width: 0px\; border-style: initial\; border-color: initial\; padding: 0px\; margin: 0px\; touch-action: manipulation\; background-color: transparent\; text-align: inherit\; display: inline\; -webkit-tap-highlight-color: transparent\; box-sizing: border-box\; font-family: inherit\;" tabindex="0" target="_blank">http://erictestdevi.chambermaster.com/form/view/23588</a></div>\n
LOCATION:Fazoli's
UID:e.1578.5188
SEQUENCE:3
DTSTAMP:20260424T092037Z
URL:https://business.hopkinscochamber.com/events/details/let-s-do-lunch-5188
END:VEVENT

END:VCALENDAR
