BEGIN:VCALENDAR
VERSION:2.0
PRODID:-//ChamberMaster//Event Calendar 2.0//EN
METHOD:PUBLISH
X-PUBLISHED-TTL:P3D
REFRESH-INTERVAL:P3D
CALSCALE:GREGORIAN
BEGIN:VEVENT
DTSTART;VALUE=DATE:20240315
DTEND;VALUE=DATE:20240317
TRANSP:TRANSPARENT
X-MICROSOFT-CDO-ALLDAYEVENT:TRUE
SUMMARY:Leprechaun Leap
DESCRIPTION:Join us for two days filled with shopping and fun! Make sure you keep an eye out for a tiny leprechaun friends!
X-ALT-DESC;FMTTYPE=text/html:Join us for two days filled with shopping and fun! Make sure you keep an eye out for a tiny leprechaun friends!&nbsp\;
LOCATION:
UID:e.1578.5983
SEQUENCE:3
DTSTAMP:20260422T141304Z
URL:https://business.hopkinscochamber.com/events/details/leprechaun-leap-5983
END:VEVENT

END:VCALENDAR
