BEGIN:VCALENDAR
VERSION:2.0
PRODID:-//ChamberMaster//Event Calendar 2.0//EN
METHOD:PUBLISH
X-PUBLISHED-TTL:P3D
REFRESH-INTERVAL:P3D
CALSCALE:GREGORIAN
BEGIN:VEVENT
DTSTART:20220104T133000Z
DTEND:20220104T150000Z
X-MICROSOFT-CDO-ALLDAYEVENT:FALSE
SUMMARY:Legislative Update Eye Opener Breakfast
DESCRIPTION:Join us for our first Eye Opener Breakfast featuring a legislative update from Congressman James Comer.\n\n\n\nCongressman Comer was elected to Congress in 2016 to represent the 1st Congressional District\, which covers 35 counties from the Mississippi River to Central Kentucky. He currently serves as the Republican Leader of the House Committee on Oversight and Reform\, where he aggressively advocates for reducing waste\, fraud and abuse in government.
X-ALT-DESC;FMTTYPE=text/html:<div style="text-align: justify\;"><font face="arial"><span style="white-space: pre-wrap\; background-color: rgb(255\, 255\, 255)\;">Join us for our first Eye Opener Breakfast featuring a legislative update from Congressman James Comer.<br />\n<br />\nCongressman Comer was elected to Congress in 2016 to represent the 1st Congressional District\, which covers 35 counties from the Mississippi River to Central Kentucky. He currently serves as the Republican Leader of the House Committee on Oversight and Reform\, where he aggressively advocates for reducing waste\, fraud and abuse in government.</span></font></div>\n
LOCATION:Mahr Park Event Barn A
UID:e.1578.5330
SEQUENCE:3
DTSTAMP:20260424T031531Z
URL:https://business.hopkinscochamber.com/events/details/legislative-update-eye-opener-breakfast-5330
END:VEVENT

END:VCALENDAR
