BEGIN:VCALENDAR
VERSION:2.0
PRODID:-//ChamberMaster//Event Calendar 2.0//EN
METHOD:PUBLISH
X-PUBLISHED-TTL:P3D
REFRESH-INTERVAL:P3D
CALSCALE:GREGORIAN
BEGIN:VEVENT
DTSTART:20230511T123000Z
DTEND:20230511T140000Z
X-MICROSOFT-CDO-ALLDAYEVENT:FALSE
SUMMARY:Legislative Review Breakfast
DESCRIPTION:Come join us for Legislative Review Breakfast with Senator Robby Mills and State Representative Wade Williams.
X-ALT-DESC;FMTTYPE=text/html:Come join us for Legislative Review Breakfast with Senator Robby Mills and State Representative Wade Williams.&nbsp\;
LOCATION:15 E Center St. Madisonville Ky. 42431
UID:e.1578.5944
SEQUENCE:3
DTSTAMP:20260423T054636Z
URL:https://business.hopkinscochamber.com/events/details/legislative-review-breakfast-5944
END:VEVENT

END:VCALENDAR
