BEGIN:VCALENDAR
VERSION:2.0
PRODID:-//ChamberMaster//Event Calendar 2.0//EN
METHOD:PUBLISH
X-PUBLISHED-TTL:P3D
REFRESH-INTERVAL:P3D
CALSCALE:GREGORIAN
BEGIN:VEVENT
DTSTART:20220512T230000Z
DTEND:20220513T020000Z
X-MICROSOFT-CDO-ALLDAYEVENT:FALSE
SUMMARY:Leadership Hopkins County Graduation & Awards
DESCRIPTION:
X-ALT-DESC;FMTTYPE=text/html:
LOCATION:
UID:e.1578.5222
SEQUENCE:3
DTSTAMP:20260423T205952Z
URL:https://business.hopkinscochamber.com/events/details/leadership-hopkins-county-graduation-awards-5222
END:VEVENT

END:VCALENDAR
