BEGIN:VCALENDAR
VERSION:2.0
PRODID:-//ChamberMaster//Event Calendar 2.0//EN
METHOD:PUBLISH
X-PUBLISHED-TTL:P3D
REFRESH-INTERVAL:P3D
CALSCALE:GREGORIAN
BEGIN:VEVENT
DTSTART:20210918T130000Z
DTEND:20210918T190000Z
X-MICROSOFT-CDO-ALLDAYEVENT:FALSE
SUMMARY:Land O' Frost Hiring Event
DESCRIPTION:We'll be accepting applications\, conducting interviews\, and giving plant tours for applicants. Please come prepared with closed toed shoes\, a light jacket\, and don't forget your mask! Also\, jewelry of any kind is not allowed on the production floor. \n\nBecome part of an essential team that produces best-selling and trusted brands of lunchmeat and specialty sausage products. We offer full-time schedules\, medical\, dental\, vision\, and Rx benefits\; as well as 401K\, tuition reimbursement\, and paid time off. \n\nManufacturing or general labor experience preferred but not required. Must be willing and able to follow all safety\, food safety\, and quality requirements while working in a refrigerated environment for 10-hour shifts.\n\nAll candidates are required to complete a post-offer drug screen and background check as part of the hiring process. Land O' Frost is a drug-free facility
X-ALT-DESC;FMTTYPE=text/html:<span style="color:rgb(14 16 26)\;"><span style="font-size:12.0pt\;">We&rsquo\;ll be accepting applications\, conducting interviews\, and giving plant tours for applicants. Please come prepared with closed toed shoes\, a light jacket\, and don&rsquo\;t forget your mask! Also\, jewelry of any kind is not allowed on the production floor. </span></span><br />\n<span style="color:#2D2D2D\;"><span style="font-size:12.0pt\;">Become part of an essential team that produces best-selling and trusted brands of lunchmeat and specialty sausage products. We offer full-time schedules\, medical\, dental\, vision\, and Rx benefits\; as well as 401K\, tuition reimbursement\, and paid time off. </span></span><br />\n<span style="color:#2D2D2D\;"><span style="font-size:12.0pt\;">Manufacturing or general labor experience preferred but not required. Must be willing and able to follow all safety\, food safety\, and quality requirements while working in a refrigerated environment for 10-hour shifts.</span></span><br />\n<span style="color:#2D2D2D\;"><span style="font-family:calibri\,sans-serif\;"><span style="font-size:12.0pt\;">All candidates are required to complete a post-offer drug screen and background check as part of the hiring process. Land O&rsquo\; Frost is a drug-free facility</span></span></span>
LOCATION:Land O' Frost 3295 Nebo Road\, Madisonville KY\, 42431
UID:e.1578.5268
SEQUENCE:3
DTSTAMP:20260424T065930Z
URL:https://business.hopkinscochamber.com/events/details/land-o-frost-hiring-event-5268
END:VEVENT

END:VCALENDAR
