BEGIN:VCALENDAR
VERSION:2.0
PRODID:-//ChamberMaster//Event Calendar 2.0//EN
METHOD:PUBLISH
X-PUBLISHED-TTL:P3D
REFRESH-INTERVAL:P3D
CALSCALE:GREGORIAN
BEGIN:VEVENT
DTSTART:20210914T223000Z
DTEND:20210915T003000Z
X-MICROSOFT-CDO-ALLDAYEVENT:FALSE
SUMMARY:Kentucky Movers and Makers - Tool Sharpening Class
DESCRIPTION:Join us for our monthly woodworking class. This month individuals will learn to lap and hone chisels\, bench plane blades and burnish cabinet scrapers.
X-ALT-DESC;FMTTYPE=text/html:<span style="color: rgb(98\, 98\, 98)\; font-family: pt-sans\, sans-serif\; font-size: 14px\; background-color: rgb(255\, 255\, 255)\;">Join us for our monthly woodworking class. This month individuals will learn to lap and hone chisels\, bench plane blades and burnish cabinet scrapers.&nbsp\;</span>
LOCATION:This event is at Kentucky Movers and Makers. 130 N Seminary Street\, Madisonville KY\, 42431.
UID:e.1578.5247
SEQUENCE:3
DTSTAMP:20260424T065710Z
URL:https://business.hopkinscochamber.com/events/details/kentucky-movers-and-makers-tool-sharpening-class-5247
END:VEVENT

END:VCALENDAR
