BEGIN:VCALENDAR
VERSION:2.0
PRODID:-//ChamberMaster//Event Calendar 2.0//EN
METHOD:PUBLISH
X-PUBLISHED-TTL:P3D
REFRESH-INTERVAL:P3D
CALSCALE:GREGORIAN
BEGIN:VEVENT
DTSTART:20210923T230000Z
DTEND:20210924T000000Z
X-MICROSOFT-CDO-ALLDAYEVENT:FALSE
SUMMARY:Kentucky Movers and Makers - New Member Orientation
DESCRIPTION:New Members can get started with this Orientation \n \n\nNew members are required to attend this Member Orientation when they first join up to help get them acclimated to the rules and the environment at the Makerspace. Class is planned for 1 hour\, but can take up to 2 hours depending on how many people attend. \n \n\nIn these orientations we will cover: \n\nA tour and overview of the Makerspace \n\nOverview of the major tools & equipment \n\nGeneral safety procedures & location of safety equipment \n\nThe Rules: our Code of Conduct \n\nA chance to get your questions about the space answered
X-ALT-DESC;FMTTYPE=text/html:<span style="color: rgb(98\, 98\, 98)\; font-family: pt-sans\, sans-serif\; font-size: 14px\; background-color: rgb(255\, 255\, 255)\;">New Members can get started with this Orientation&nbsp\;</span>\n<div style="color: rgb(98\, 98\, 98)\; font-family: pt-sans\, sans-serif\; font-size: 14px\; background-color: rgb(255\, 255\, 255)\;">&nbsp\;</div>\n\n<div style="color: rgb(98\, 98\, 98)\; font-family: pt-sans\, sans-serif\; font-size: 14px\; background-color: rgb(255\, 255\, 255)\;">New members are required to attend this Member Orientation when they first join up to help get them acclimated to the rules and the environment at the Makerspace. Class is planned for 1 hour\, but can take up to 2 hours depending on how many people attend.&nbsp\;\n<div>&nbsp\;</div>\n\n<div>In these orientations we will cover:&nbsp\;</div>\n\n<div>A tour and overview of the Makerspace&nbsp\;</div>\n\n<div>Overview of the major tools &amp\; equipment&nbsp\;</div>\n\n<div>General safety procedures &amp\; location of safety equipment&nbsp\;</div>\n\n<div>The Rules: our Code of Conduct&nbsp\;</div>\n\n<div>A chance to get your questions about the space answered&nbsp\;</div>\n</div>\n
LOCATION:This event will take place at Kentucky Movers and Makers. 130 N Seminary Street\, Madisonville KY\, 42431.
UID:e.1578.5243
SEQUENCE:3
DTSTAMP:20260424T065930Z
URL:https://business.hopkinscochamber.com/events/details/kentucky-movers-and-makers-new-member-orientation-5243
END:VEVENT

END:VCALENDAR
