BEGIN:VCALENDAR
VERSION:2.0
PRODID:-//ChamberMaster//Event Calendar 2.0//EN
METHOD:PUBLISH
X-PUBLISHED-TTL:P3D
REFRESH-INTERVAL:P3D
CALSCALE:GREGORIAN
BEGIN:VEVENT
DTSTART:20210414T223000Z
DTEND:20210415T003000Z
X-MICROSOFT-CDO-ALLDAYEVENT:FALSE
SUMMARY:Kentucky Movers and Makers Learning Series - Sewing Class (Fat Sack/Grocery Sack)
DESCRIPTION:Kentucky Movers and Makers Sewing Class (Fat Sack/Grocery Sack)\n\nTwo part class - Will need to bring 1 yard of Fabric and matching thread\n\nClass sizes are limited due to Covid-19 restrictions\, and masks/social distancing required.
X-ALT-DESC;FMTTYPE=text/html:Kentucky Movers and Makers Sewing Class (Fat Sack/Grocery Sack)<br />\nTwo part class - Will need to bring 1 yard of Fabric and matching thread<br />\nClass sizes are limited due to Covid-19 restrictions\, and masks/social distancing required.
LOCATION:Kentucky Movers and Makers 130 N. Seminary
UID:e.1578.4551
SEQUENCE:3
DTSTAMP:20260424T133247Z
URL:https://business.hopkinscochamber.com/events/details/kentucky-movers-and-makers-learning-series-sewing-class-fat-sack-grocery-sack-4551
END:VEVENT

END:VCALENDAR
