BEGIN:VCALENDAR
VERSION:2.0
PRODID:-//ChamberMaster//Event Calendar 2.0//EN
METHOD:PUBLISH
X-PUBLISHED-TTL:P3D
REFRESH-INTERVAL:P3D
CALSCALE:GREGORIAN
BEGIN:VEVENT
DTSTART:20210424T140000Z
DTEND:20210424T180000Z
X-MICROSOFT-CDO-ALLDAYEVENT:FALSE
SUMMARY:Kentucky Movers and Makers Learning Series - Maker Saturday Pop-Up Shop
DESCRIPTION:Kentucky Movers and Makers Pop-Up shop  - Events and classes are open to the public.  Masks and social distancing are required.
X-ALT-DESC;FMTTYPE=text/html:Kentucky Movers and Makers Pop-Up shop&nbsp\; - Events and classes are open to the public.&nbsp\; Masks and social distancing are required.&nbsp\;&nbsp\;
LOCATION:Kentucky Movers and Makers 130 N. Seminary
UID:e.1578.4553
SEQUENCE:3
DTSTAMP:20260424T133133Z
URL:https://business.hopkinscochamber.com/events/details/kentucky-movers-and-makers-learning-series-maker-saturday-pop-up-shop-4553
END:VEVENT

END:VCALENDAR
